BEGIN:VCALENDAR
VERSION:2.0
PRODID:Linklings LLC
BEGIN:VTIMEZONE
TZID:Asia/Tokyo
X-LIC-LOCATION:Asia/Tokyo
BEGIN:STANDARD
TZOFFSETFROM:+0900
TZOFFSETTO:+0900
TZNAME:JST
DTSTART:18871231T000000
END:STANDARD
END:VTIMEZONE
BEGIN:VEVENT
DTSTAMP:20250110T023314Z
LOCATION:G407\, G Block\, Level 4
DTSTART;TZID=Asia/Tokyo:20241204T153000
DTEND;TZID=Asia/Tokyo:20241204T163000
UID:siggraphasia_SIGGRAPH Asia 2024_sess246@linklings.com
SUMMARY:Forging the Immersive Web through Real-Time Graphics
DESCRIPTION:Birds of a Feather\n\nBirds of a Feather (BOF) sessions at SIG
 GRAPH Asia 2024 are graphics-related, attendee-organized, informational di
 scussions of shared interests, goals, technologies, arts, and/or backgroun
 ds. These sessions focus on topics relevant to the computer graphics or in
 teractive techniques community, celebrating, connecting, and enabling new 
 collaborations. BOF sessions also welcome proposals on Diversity, Equity, 
 and Inclusion (DEI) topics.\n\nGather your flock to attend these informal 
 sessions on trending topics in the CG industry!\n\nForging the Immersive W
 eb through Real-Time Graphics\n\nMany believe that the next generation of 
 the web will integrate the power and immersiveness of spatial computing to
  create new paradigms for interacting with our technology, our environment
 s, and each other. Hear from representatives of both the W3C and Khronos s
 tandards organizations on how they ar...\n\n\nNeil Trevett (NVIDIA, Khrono
 s Group); Atsushi Shimono (W3C); Gregg Tavares (Google); Ricardo Cabello (
 Google Brain); Julien Guertault (Adobe); and Frédéric Servant (Autodesk)\n
 \nRegistration Category: Enhanced Access, Exhibit & Experience Access, Exp
 erience Hall Exhibitor, Full Access, Full Access Supporter, Trade Exhibito
 r\n\nLanguage Format: English Language
END:VEVENT
END:VCALENDAR
