BEGIN:VCALENDAR
VERSION:2.0
PRODID:Linklings LLC
BEGIN:VTIMEZONE
TZID:Asia/Tokyo
X-LIC-LOCATION:Asia/Tokyo
BEGIN:STANDARD
TZOFFSETFROM:+0900
TZOFFSETTO:+0900
TZNAME:JST
DTSTART:18871231T000000
END:STANDARD
END:VTIMEZONE
BEGIN:VEVENT
DTSTAMP:20250110T023314Z
LOCATION:G408\, G Block\, Level 4
DTSTART;TZID=Asia/Tokyo:20241204T141500
DTEND;TZID=Asia/Tokyo:20241204T151500
UID:siggraphasia_SIGGRAPH Asia 2024_sess244@linklings.com
SUMMARY:DevOps  in Production
DESCRIPTION:Birds of a Feather\n\nBirds of a Feather (BOF) sessions at SIG
 GRAPH Asia 2024 are graphics-related, attendee-organized, informational di
 scussions of shared interests, goals, technologies, arts, and/or backgroun
 ds. These sessions focus on topics relevant to the computer graphics or in
 teractive techniques community, celebrating, connecting, and enabling new 
 collaborations. BOF sessions also welcome proposals on Diversity, Equity, 
 and Inclusion (DEI) topics.\n\nGather your flock to attend these informal 
 sessions on trending topics in the CG industry!\n\nDevOps  in Production\n
 \nSoftware companies  have 40-60% ratio engineers. Movie and cartoon produ
 ction companies are around 5-10%. Still they need to maintain a wide range
  of DCC plugins and OS, multiple versions of in-house tools across multipl
 e projects. The ratio (size of the build matrix/number of engineers) in pr
 oducti...\n\n\nMarc Salvati (OLM Digital, Inc.)\n\nRegistration Category: 
 Enhanced Access, Exhibit & Experience Access, Experience Hall Exhibitor, F
 ull Access, Full Access Supporter, Trade Exhibitor\n\nLanguage Format: Eng
 lish Language
END:VEVENT
END:VCALENDAR
