BEGIN:VCALENDAR
VERSION:2.0
PRODID:Linklings LLC
BEGIN:VTIMEZONE
TZID:Asia/Tokyo
X-LIC-LOCATION:Asia/Tokyo
BEGIN:STANDARD
TZOFFSETFROM:+0900
TZOFFSETTO:+0900
TZNAME:JST
DTSTART:18871231T000000
END:STANDARD
END:VTIMEZONE
BEGIN:VEVENT
DTSTAMP:20250110T023314Z
LOCATION:G408\, G Block\, Level 4
DTSTART;TZID=Asia/Tokyo:20241204T130000
DTEND;TZID=Asia/Tokyo:20241204T140000
UID:siggraphasia_SIGGRAPH Asia 2024_sess241@linklings.com
SUMMARY:CG in Asia
DESCRIPTION:Birds of a Feather\n\nBirds of a Feather (BOF) sessions at SIG
 GRAPH Asia 2024 are graphics-related, attendee-organized, informational di
 scussions of shared interests, goals, technologies, arts, and/or backgroun
 ds. These sessions focus on topics relevant to the computer graphics or in
 teractive techniques community, celebrating, connecting, and enabling new 
 collaborations. BOF sessions also welcome proposals on Diversity, Equity, 
 and Inclusion (DEI) topics.\n\nGather your flock to attend these informal 
 sessions on trending topics in the CG industry!\n\nCG in Asia\n\nPlease jo
 in our CG in Asia session to gain insights into the work of renowned acade
 mics from the region. You'll explore the fusion of Interactive Media Arts,
  Extended Reality, Computer Graphics, and Design for the Future.\n\n\nMiho
  Aoki (University of Alaska Fairbanks, ACM SIGGRAPH); Rui Xu (University o
 f Hong Kong); Goki Muramoto (University of Tokyo); Ping-Hsuan Han (Nationa
 l Taipei University of Technology); Taku Komura (University of Hong Kong, 
 SIGGRAPH Asia 2025 Conference Chair); Shoko Kimura (Aoyama Gakuin Universi
 ty, ACM SIGGRAPH); Ayumi Kimura (OLM Digital, Inc.; ACM SIGGRAPH); and Bek
 tur Ryskeldiev (Mercari R4D; Digital Nature Group, University of Tsukuba)\
 n\nRegistration Category: Enhanced Access, Exhibit & Experience Access, Ex
 perience Hall Exhibitor, Full Access, Full Access Supporter, Trade Exhibit
 or\n\nLanguage Format: Japanese Language, English Language
END:VEVENT
END:VCALENDAR
