BEGIN:VCALENDAR
VERSION:2.0
PRODID:Linklings LLC
BEGIN:VTIMEZONE
TZID:Asia/Tokyo
X-LIC-LOCATION:Asia/Tokyo
BEGIN:STANDARD
TZOFFSETFROM:+0900
TZOFFSETTO:+0900
TZNAME:JST
DTSTART:18871231T000000
END:STANDARD
END:VTIMEZONE
BEGIN:VEVENT
DTSTAMP:20250110T023314Z
LOCATION:G407\, G Block\, Level 4
DTSTART;TZID=Asia/Tokyo:20241204T110000
DTEND;TZID=Asia/Tokyo:20241204T120000
UID:siggraphasia_SIGGRAPH Asia 2024_sess237@linklings.com
SUMMARY:Discussion with VFX Producers in Japan: How to get the work? / How
  do we create an R&D department in studio? (In Japanese)
DESCRIPTION:Birds of a Feather\n\nBirds of a Feather (BOF) sessions at SIG
 GRAPH Asia 2024 are graphics-related, attendee-organized, informational di
 scussions of shared interests, goals, technologies, arts, and/or backgroun
 ds. These sessions focus on topics relevant to the computer graphics or in
 teractive techniques community, celebrating, connecting, and enabling new 
 collaborations. BOF sessions also welcome proposals on Diversity, Equity, 
 and Inclusion (DEI) topics.\n\nGather your flock to attend these informal 
 sessions on trending topics in the CG industry!\n\nDiscussion with VFX Pro
 ducers in Japan: How to get the work? / How do we create an R&D department
  in studio? (In Japanese)\n\nIn Part 1, we will discuss the approaches tak
 en when accepting VFX jobs from a producer's perspective.\nThe cooperation
  of the VFX team is required in every process, so we held a discussion on 
 the theme of "What has changed in the VFX field in the past 10 years?”\n\n
 In Part 2, we will discuss how...\n\n\nMasaru Suzuki and Masaki Takahashi 
 (SHIROGUMI INC.)\n\nRegistration Category: Enhanced Access, Exhibit & Expe
 rience Access, Experience Hall Exhibitor, Full Access, Full Access Support
 er, Trade Exhibitor\n\nLanguage Format: Japanese Language
END:VEVENT
END:VCALENDAR
