BEGIN:VCALENDAR
VERSION:2.0
PRODID:Linklings LLC
BEGIN:VTIMEZONE
TZID:Asia/Tokyo
X-LIC-LOCATION:Asia/Tokyo
BEGIN:STANDARD
TZOFFSETFROM:+0900
TZOFFSETTO:+0900
TZNAME:JST
DTSTART:18871231T000000
END:STANDARD
END:VTIMEZONE
BEGIN:VEVENT
DTSTAMP:20250110T023314Z
LOCATION:G407\, G Block\, Level 4
DTSTART;TZID=Asia/Tokyo:20241203T141500
DTEND;TZID=Asia/Tokyo:20241203T151500
UID:siggraphasia_SIGGRAPH Asia 2024_sess226@linklings.com
SUMMARY:CG in Japan
DESCRIPTION:Birds of a Feather\n\nBirds of a Feather (BOF) sessions at SIG
 GRAPH Asia 2024 are graphics-related, attendee-organized, informational di
 scussions of shared interests, goals, technologies, arts, and/or backgroun
 ds. These sessions focus on topics relevant to the computer graphics or in
 teractive techniques community, celebrating, connecting, and enabling new 
 collaborations. BOF sessions also welcome proposals on Diversity, Equity, 
 and Inclusion (DEI) topics.\n\nGather your flock to attend these informal 
 sessions on trending topics in the CG industry!\n\nCG in Japan\n\nJoin us 
 for a dynamic session on innovative computer graphics, interactive technol
 ogies, and digital art from Japan, featuring insights from leading researc
 hers and practitioners.CG in Japan is a traditional session that has been 
 held at SIGGRAPH for more than 30 years over.\nThis year's session will...
 \n\n\nShoko Kimura (Aoyama Gakuin University, ACM SIGGRAPH); Mitsuki Hamam
 ichi (Aoyama Gakuin University); Michiyuki Ishita (COLORs CREATION Co. Ltd
 ., Projection Mapping Association of Japan); Xin Zhang (AI Mage Inc.); Jon
 h Hathway (JH SCIENCE); Miho Aoki (University of Alaska Fairbanks, ACM SIG
 GRAPH); Ayumi Kimura (OLM Digital, Inc.; ACM SIGGRAPH); and Bektur Ryskeld
 iev (Mercari R4D; Digital Nature Group, University of Tsukuba)\n\nRegistra
 tion Category: Enhanced Access, Exhibit & Experience Access, Experience Ha
 ll Exhibitor, Full Access, Full Access Supporter, Trade Exhibitor\n\nLangu
 age Format: Japanese Language, English Language
END:VEVENT
END:VCALENDAR
